BEGIN:VCALENDAR
VERSION:2.0
PRODID:spatie/icalendar-generator
NAME:Frühjahr-/ Sommerbasar 21.03.2026Rain
X-WR-CALNAME:Frühjahr-/ Sommerbasar 21.03.2026Rain
BEGIN:VTIMEZONE
TZID:Europe/Berlin
BEGIN:STANDARD
DTSTART:20251026T030000
TZOFFSETFROM:+0200
TZOFFSETTO:+0100
END:STANDARD
BEGIN:DAYLIGHT
DTSTART:20260329T010000
TZOFFSETFROM:+0100
TZOFFSETTO:+0200
END:DAYLIGHT
END:VTIMEZONE
BEGIN:VTIMEZONE
TZID:UTC
BEGIN:STANDARD
DTSTART:20250727T095252
TZOFFSETFROM:+0000
TZOFFSETTO:+0000
END:STANDARD
END:VTIMEZONE
BEGIN:VEVENT
UID:69e9ebf4ad804
DTSTAMP:20260423T095252Z
SUMMARY:Frühjahr-/ Sommerbasar 21.03.2026
LOCATION:Mehrzweckhalle Rain\, Attinger Straße 10\, 94369 Rain
DTSTART;TZID=Europe/Berlin:20260321T073000
DTEND;TZID=Europe/Berlin:20260321T093000
GEO:48.90351;12.47752
END:VEVENT
END:VCALENDAR